BEGIN:VCALENDAR
VERSION:2.0
PRODID:-//ChamberMaster//Event Calendar 2.0//EN
METHOD:PUBLISH
X-PUBLISHED-TTL:P3D
REFRESH-INTERVAL:P3D
CALSCALE:GREGORIAN
BEGIN:VEVENT
DTSTART:20200316T123000Z
DTEND:20200316T143000Z
X-MICROSOFT-CDO-ALLDAYEVENT:FALSE
SUMMARY:2020 Legislative Update Breakfast - CANCELED
DESCRIPTION:THIS EVENT HAS BEEN CANCELED AT THE RECOMMENDATION OF THE CHARLES COUNTY HEALTH DEPARTMENT DUE TO THE CORONA VIRUS OUTBREAK.\n\n\n\nREGISTRANTS' PAYMENTS WILL BE CREDITED TO THEIR CHAMBER ACCOUNT. IF YOU PREFER A DEBIT TO THE CREDIT CARD USED TO REGISTER\, PLEASE CONTACT THE CHAMBER AT INFO@CHARLESCOUNTYCHAMBER.ORG \n\n\n\nSpend the morning with members of our Charles County Delegation\n\nat the 2020 Legislative Update Breakfast!  (Note:  All previous registrations will be honored at the early bird discount.)\n\n\n\nMust register by Thursday\, March 12.
X-ALT-DESC;FMTTYPE=text/html:<font color="#ff0000" style="font-size: 14px\;"><b>THIS EVENT HAS BEEN </b></font><font color="#ff0000"><span style="font-size: 14px\;"><b>CANCELED</b></span></font><font color="#ff0000" style=""><b style="font-size: 14px\;">&nbsp\;AT THE </b><span style="font-size: 14px\;"><b>RECOMMENDATION</b></span><b style="font-size: 14px\;">&nbsp\;OF THE CHARLES COUNTY HEALTH </b><span style="font-size: 14px\;"><b>DEPARTMENT</b></span><b style="font-size: 14px\;">&nbsp\;DUE TO THE CORONA VIRUS OUTBREAK.<br />\n<br />\nREGISTRANTS&#39\; PAYMENTS WILL BE CREDITED TO THEIR CHAMBER ACCOUNT. IF YOU PREFER A DEBIT TO THE CREDIT CARD USED TO REGISTER\, PLEASE CONTACT THE CHAMBER AT INFO@CHARLESCOUNTYCHAMBER.ORG&nbsp\;</b></font><br />\n<br />\nSpend the morning with members of our Charles County Delegation<br />\nat the 2020 Legislative Update Breakfast!&nbsp\; <em>(Note:&nbsp\; All previous registrations will be honored at the early bird discount.)<br />\n<br />\nMust register by Thursday\, March 12.</em>
LOCATION:The Charleston Senior Living Center 45 St. Patricks Drive Waldorf\, MD 20603
UID:e.2465.4507
SEQUENCE:3
DTSTAMP:20260421T220752Z
URL:http://charlescountychamber.chambermaster.com/events/details/2020-legislative-update-breakfast-canceled-4507
END:VEVENT

END:VCALENDAR
