BEGIN:VCALENDAR
VERSION:2.0
PRODID:-//ChamberMaster//Event Calendar 2.0//EN
METHOD:PUBLISH
X-PUBLISHED-TTL:P3D
REFRESH-INTERVAL:P3D
CALSCALE:GREGORIAN
BEGIN:VEVENT
DTSTART:20200129T140000Z
DTEND:20200129T153000Z
X-MICROSOFT-CDO-ALLDAYEVENT:FALSE
SUMMARY:Chamber 101
DESCRIPTION:Starting this month\, the Chamber will host monthly Chamber 101 sessions where you can:\n\n	 Learn how the Chamber can help you grow your business!\n	Help us welcome new members!\n	Hear about upcoming events\, programs and services!\n	Find ways to volunteer on a Chamber committee!\n	Meet the movers and shakers of Chamber leadership!\n	Get new business leads!  \n\n\nChamber 101 is designed for prospective members\, new members\, long-time members who want a refresher!\n\n \n\nSPONSOR THIS SESSION FOR $100!\n\nContact Bonnie Grady at bgrady@charlescountychamber.org
X-ALT-DESC;FMTTYPE=text/html:Starting this month\, the Chamber will host <em>monthly</em> Chamber 101 sessions where you can:\n<ul>\n	<li>&nbsp\;Learn how the Chamber can help you grow your business!</li>\n	<li style="margin-left:0in\;">Help us welcome new members!</li>\n	<li style="margin-left:0in\;">Hear about upcoming events\, programs and services!</li>\n	<li style="margin-left:0in\;">Find ways to volunteer on a Chamber committee!</li>\n	<li style="margin-left:0in\;">Meet the movers and shakers of Chamber leadership!</li>\n	<li style="margin-left:0in\;">Get new business leads!&nbsp\;&nbsp\;</li>\n</ul>\n\n<div style="margin-left:0in\;">Chamber 101 is designed for prospective members\, new members\, long-time members who want a refresher!<br />\n&nbsp\;</div>\n\n<p style="margin-left: 0in\;"><span style="font-size:16px\;"><strong><span style="color:#B22222\;">SPONSOR THIS SESSION FOR $100!<br />\nContact Bonnie Grady at <a href="mailto:bgrady@charlescountychamber.org"><u>bgrady@charlescountychamber.org</u></a></span></strong></span><br />\n&nbsp\;</p>\n
LOCATION:Charles County Chamber Office 101 Centennial Street\, Suite A La Plata\, MD 20646
UID:e.2465.4504
SEQUENCE:3
DTSTAMP:20260423T124422Z
URL:http://charlescountychamber.chambermaster.com/events/details/chamber-101-4504
END:VEVENT

END:VCALENDAR
