BEGIN:VCALENDAR
VERSION:2.0
PRODID:-//ChamberMaster//Event Calendar 2.0//EN
METHOD:PUBLISH
X-PUBLISHED-TTL:P3D
REFRESH-INTERVAL:P3D
CALSCALE:GREGORIAN
BEGIN:VEVENT
DTSTART:20191011T233000Z
DTEND:20191012T013000Z
X-MICROSOFT-CDO-ALLDAYEVENT:FALSE
SUMMARY:HydraFX Live
DESCRIPTION:HydraFX performing at The Point Grill. No cover charge. Reservations Recommended - 301.259.0047\, Ext. 14 or on OpenTable.com. Music starts at 7:30 PM.
X-ALT-DESC;FMTTYPE=text/html:HydraFX performing at The Point Grill. No cover charge. Reservations Recommended - 301.259.0047\, Ext. 14 or on OpenTable.com. Music starts at 7:30 PM.
LOCATION:
UID:e.2465.4483
SEQUENCE:3
DTSTAMP:20260424T112809Z
URL:http://charlescountychamber.chambermaster.com/events/details/hydrafx-live-4483
END:VEVENT

END:VCALENDAR
