BEGIN:VCALENDAR
VERSION:2.0
PRODID:-//ChamberMaster//Event Calendar 2.0//EN
METHOD:PUBLISH
X-PUBLISHED-TTL:P3D
REFRESH-INTERVAL:P3D
CALSCALE:GREGORIAN
BEGIN:VEVENT
DTSTART:20200305T223000Z
DTEND:20200306T003000Z
X-MICROSOFT-CDO-ALLDAYEVENT:FALSE
SUMMARY:March 2020 Mixer
DESCRIPTION:Join the Chamber and our hosts Sky Zone as we "jump" into Spring!
X-ALT-DESC;FMTTYPE=text/html:Join the Chamber and our hosts Sky Zone as we &quot\;jump&quot\; into Spring!
LOCATION:Sky Zone-Waldorf 4390 Crain Hwy. White Plains\, MD 20695 CLICK HERE FOR PRINTABLE FLYER
UID:e.2465.4503
SEQUENCE:3
DTSTAMP:20260420T165548Z
URL:http://charlescountychamber.chambermaster.com/events/details/march-2020-mixer-4503
END:VEVENT

END:VCALENDAR
