BEGIN:VCALENDAR
VERSION:2.0
PRODID:-//ChamberMaster//Event Calendar 2.0//EN
METHOD:PUBLISH
X-PUBLISHED-TTL:P3D
REFRESH-INTERVAL:P3D
CALSCALE:GREGORIAN
BEGIN:VEVENT
DTSTART:20200227T180000Z
DTEND:20200227T190000Z
X-MICROSOFT-CDO-ALLDAYEVENT:FALSE
SUMMARY:Ribbon-Cutting
DESCRIPTION:NEW EVENT - JUST ANNOUNCED!\n\nRIBBON CUTTING - POIEMA MOVEMENT\n\nThursday\, Feb. 27\, 1:00 PM\, Ceremony at 1:30 PM\n\n10395 Berry Road\, Waldorf
X-ALT-DESC;FMTTYPE=text/html:<strong><span style="color:#E02E16\;"><span style="font-family:arial\,sans-serif\;"><span style="font-size:15.0pt\;">NEW EVENT - JUST ANNOUNCED!</span></span></span></strong><br />\n<span style="font-size:14px\;"><span style="font-family:arial\;"><strong><span style="color:#403F42\;">RIBBON CUTTING - POIEMA MOVEMENT</span></strong><br />\n<strong><span style="color:#403F42\;">Thursday\, Feb. 27\, 1:00 PM\, Ceremony at 1:30 PM</span></strong><br />\n<span style="color:#403F42\;">10395 Berry Road\, Waldorf</span></span></span><br />\n&nbsp\;
LOCATION:10395 Berry Road\, Waldorf\, MD
UID:e.2465.4553
SEQUENCE:3
DTSTAMP:20260421T091849Z
URL:http://charlescountychamber.chambermaster.com/events/details/ribbon-cutting-4553
END:VEVENT

END:VCALENDAR
